BEGIN:VCALENDAR
VERSION:2.0
PRODID:SchoolNow
CALSCALE:GREGORIAN
BEGIN:VEVENT
UID:df5fee1c-5dc5-11f0-864b-0a58a9feac02
DTSTAMP:20250710T194128Z
SUMMARY:Volleyball Tournament Championship @ Wilkins
URL;VALUE=URI:https://www.arbor145.org/calendar/8402814/volleyball-tourname
 nt-championship-wilkins-clone
DTSTART;VALUE=DATE:20251002
DTEND;VALUE=DATE:20251003
END:VEVENT
END:VCALENDAR
