BEGIN:VCALENDAR
VERSION:2.0
PRODID:SchoolNow
CALSCALE:GREGORIAN
BEGIN:VEVENT
UID:1258c974-5dc6-11f0-a802-0ed8963db997
DTSTAMP:20250710T194254Z
SUMMARY:Volleyball All Star Game @ Worth
URL;VALUE=URI:https://www.arbor145.org/calendar/8402815/volleyball-all-star
 -game-kolmar-clone
DTSTART;VALUE=DATE:20251008
DTEND;VALUE=DATE:20251009
END:VEVENT
END:VCALENDAR
