BEGIN:VCALENDAR
VERSION:2.0
PRODID:SchoolNow
CALSCALE:GREGORIAN
BEGIN:VEVENT
UID:28a5ef04-5dc6-11f0-9e2a-0a58a9feac02
DTSTAMP:20250710T200857Z
SUMMARY:APMS GBB Arbor @ Hamlin
URL;VALUE=URI:https://www.arbor145.org/calendar/8402816/gbb-arbor-hamlin-cl
 one
DTSTART;VALUE=DATE:20251014
DTEND;VALUE=DATE:20251015
END:VEVENT
END:VCALENDAR
