BEGIN:VCALENDAR
VERSION:2.0
PRODID:SchoolNow
CALSCALE:GREGORIAN
BEGIN:VEVENT
UID:3b4f5b86-5dc6-11f0-8d1f-0a58a9feac02
DTSTAMP:20250710T200458Z
SUMMARY:APMS GBB Arbor vs Independence
URL;VALUE=URI:https://www.arbor145.org/calendar/8402817/gbb-arbor-independe
 nce-clone
DTSTART;VALUE=DATE:20251016
DTEND;VALUE=DATE:20251017
END:VEVENT
END:VCALENDAR
