BEGIN:VCALENDAR
VERSION:2.0
PRODID:SchoolNow
CALSCALE:GREGORIAN
BEGIN:VEVENT
UID:60183596-5dc6-11f0-be9c-0a58a9feac02
DTSTAMP:20250710T200514Z
SUMMARY:APMS GBB Arbor vs Wilkins
URL;VALUE=URI:https://www.arbor145.org/calendar/8402818/gbb-arbor-wilkins-c
 lone
DTSTART;VALUE=DATE:20251021
DTEND;VALUE=DATE:20251022
END:VEVENT
END:VCALENDAR
