BEGIN:VCALENDAR
VERSION:2.0
PRODID:SchoolNow
CALSCALE:GREGORIAN
BEGIN:VEVENT
UID:6e1d6ba2-5dc6-11f0-a900-0a58a9feac02
DTSTAMP:20250710T200537Z
SUMMARY:APMS GBB Arbor @ Finley
URL;VALUE=URI:https://www.arbor145.org/calendar/8402819/gbb-arbor-vs-finley
 -clone
DTSTART;VALUE=DATE:20251023
DTEND;VALUE=DATE:20251024
END:VEVENT
END:VCALENDAR
