BEGIN:VCALENDAR
VERSION:2.0
PRODID:SchoolNow
CALSCALE:GREGORIAN
BEGIN:VEVENT
UID:82f8b19e-5dc6-11f0-9984-02638327b561
DTSTAMP:20250710T200547Z
SUMMARY:APMS GBB Arbor @ Worth
URL;VALUE=URI:https://www.arbor145.org/calendar/8402820/gbb-arbor-vs-worth-
 clone
DTSTART;VALUE=DATE:20251027
DTEND;VALUE=DATE:20251028
END:VEVENT
END:VCALENDAR
