BEGIN:VCALENDAR
VERSION:2.0
PRODID:SchoolNow
CALSCALE:GREGORIAN
BEGIN:VEVENT
UID:38f0f3ac-5dc8-11f0-a945-0a58a9feac02
DTSTAMP:20250710T201009Z
SUMMARY:APMS GBB Arbor vs Kolmar
URL;VALUE=URI:https://www.arbor145.org/calendar/8402821/gbb-arbor-vs-kolmar
 -clone
DTSTART;VALUE=DATE:20251028
DTEND;VALUE=DATE:20251029
END:VEVENT
END:VCALENDAR
