BEGIN:VCALENDAR
VERSION:2.0
PRODID:SchoolNow
CALSCALE:GREGORIAN
BEGIN:VEVENT
UID:b72ded54-5dca-11f0-9866-0afffb6250df
DTSTAMP:20250710T201608Z
SUMMARY:APMS BBB Arbor vs Wilkins
URL;VALUE=URI:https://www.arbor145.org/calendar/8402834/apms-bbb-arbor-vs-w
 ilkins-clone
DTSTART;VALUE=DATE:20260120
DTEND;VALUE=DATE:20260121
END:VEVENT
END:VCALENDAR
