BEGIN:VCALENDAR
VERSION:2.0
PRODID:SchoolNow
CALSCALE:GREGORIAN
BEGIN:VEVENT
UID:c43cb8e0-5dca-11f0-b88a-0a58a9feac02
DTSTAMP:20250710T201630Z
SUMMARY:APMS BBB Arbor @ Finley
URL;VALUE=URI:https://www.arbor145.org/calendar/8402835/apms-bbb-arbor-finl
 ey-clone
DTSTART;VALUE=DATE:20260122
DTEND;VALUE=DATE:20260123
END:VEVENT
END:VCALENDAR
