BEGIN:VCALENDAR
VERSION:2.0
PRODID:SchoolNow
CALSCALE:GREGORIAN
BEGIN:VEVENT
UID:11d0bffe-5dce-11f0-8f19-0a58a9feac02
DTSTAMP:20250710T204009Z
SUMMARY:Board of Education Meeting
URL;VALUE=URI:https://www.arbor145.org/calendar/8403523/board-of-education-
 meeting-clone
DTSTART:20250821T000000Z
DTEND:20250821T010000Z
END:VEVENT
END:VCALENDAR
