BEGIN:VCALENDAR
VERSION:2.0
PRODID:SchoolNow
CALSCALE:GREGORIAN
BEGIN:VEVENT
UID:17550b9c-5dce-11f0-8faa-02638327b561
DTSTAMP:20250710T204018Z
SUMMARY:Board of Education Meeting
URL;VALUE=URI:https://www.arbor145.org/calendar/8403527/board-of-education-
 meeting-clone-clone
DTSTART:20250925T000000Z
DTEND:20250925T010000Z
END:VEVENT
END:VCALENDAR
