BEGIN:VCALENDAR
VERSION:2.0
PRODID:SchoolNow
CALSCALE:GREGORIAN
BEGIN:VEVENT
UID:1cf0db62-5dce-11f0-8ea0-0a58a9feac02
DTSTAMP:20250710T204027Z
SUMMARY:Board of Education Meeting
URL;VALUE=URI:https://www.arbor145.org/calendar/8403602/board-of-education-
 meeting-clone-clone
DTSTART:20251023T000000Z
DTEND:20251023T010000Z
END:VEVENT
END:VCALENDAR
