BEGIN:VCALENDAR
VERSION:2.0
PRODID:SchoolNow
CALSCALE:GREGORIAN
BEGIN:VEVENT
UID:b4e6f64a-76c4-11f0-ac2a-026868b05a49
DTSTAMP:20250811T150606Z
SUMMARY:SOS Device Pick Up Night
URL;VALUE=URI:https://www.arbor145.org/calendar/8490438/sos-device-pick-up-
 night
DTSTART:20250813T210000Z
DTEND:20250813T223000Z
END:VEVENT
END:VCALENDAR
