BEGIN:VCALENDAR
VERSION:2.0
PRODID:SchoolNow
CALSCALE:GREGORIAN
BEGIN:VEVENT
UID:fc182b24-3cc6-11f1-b3f6-0a58a9feac02
DTSTAMP:20260420T144115Z
SUMMARY:Annual Review/Ptac Meeting
URL;VALUE=URI:https://www.arbor145.org/calendar/9006904/annual-review-ptac-
 meeting
DTSTART:20260519T180000Z
DTEND:20260519T190000Z
END:VEVENT
END:VCALENDAR
