BEGIN:VCALENDAR
VERSION:2.0
PRODID:SchoolNow
CALSCALE:GREGORIAN
BEGIN:VEVENT
UID:c00ac38e-1fc0-11ed-853f-0ed7231d63bb
DTSTAMP:20220819T131343Z
SUMMARY:3rd Grade Step Up Night
URL;VALUE=URI:https://www.arbor145.org/sos/calendar/3288156/3rd-grade-step-
 up-night
DTSTART:20220809T233000Z
DTEND:20220810T003000Z
END:VEVENT
END:VCALENDAR
