BEGIN:VCALENDAR
VERSION:2.0
PRODID:SchoolNow
CALSCALE:GREGORIAN
BEGIN:VEVENT
UID:d7ed4e2c-1fc0-11ed-bb9f-0ed7231d63bb
DTSTAMP:20220819T131423Z
SUMMARY:Curriculum Night
URL;VALUE=URI:https://www.arbor145.org/sos/calendar/3288157/curriculum-nigh
 t
DTSTART:20220823T233000Z
DTEND:20220824T003000Z
END:VEVENT
END:VCALENDAR
