BEGIN:VCALENDAR
VERSION:2.0
PRODID:SchoolNow
CALSCALE:GREGORIAN
BEGIN:VEVENT
UID:ccd08586-32d5-11ed-94ee-0a15af189435
DTSTAMP:20220912T200216Z
SUMMARY:All School Fitness Walk
LOCATION:Scarlet Oak School
URL;VALUE=URI:https://www.arbor145.org/sos/calendar/3382224/all-school-fitn
 ess-walk
DTSTART:20220914T145500Z
DTEND:20220914T154000Z
END:VEVENT
END:VCALENDAR
