BEGIN:VCALENDAR
VERSION:2.0
PRODID:SchoolNow
CALSCALE:GREGORIAN
BEGIN:VEVENT
UID:d5c4751a-32d7-11ed-8f02-0a15af189435
DTSTAMP:20220912T201650Z
SUMMARY:Field Day
LOCATION:Scarlet Oak School
URL;VALUE=URI:https://www.arbor145.org/sos/calendar/3382229/field-day
DTSTART;VALUE=DATE:20230526
DTEND;VALUE=DATE:20230527
END:VEVENT
END:VCALENDAR
