BEGIN:VCALENDAR
VERSION:2.0
PRODID:SchoolNow
CALSCALE:GREGORIAN
BEGIN:VEVENT
UID:69173efa-32d9-11ed-94fd-0a93c33ca9bd
DTSTAMP:20220912T202807Z
SUMMARY:Last Day of School- Half Day
LOCATION:Scarlet Oak School
URL;VALUE=URI:https://www.arbor145.org/sos/calendar/3382231/last-day-of-sch
 ool-half-day
DTSTART:20230531T135500Z
DTEND:20230531T170000Z
END:VEVENT
END:VCALENDAR
