BEGIN:VCALENDAR
VERSION:2.0
PRODID:SchoolNow
CALSCALE:GREGORIAN
BEGIN:VEVENT
UID:45311c3c-4a5c-11ed-b66b-0e1efb77f3cb
DTSTAMP:20221012T183247Z
SUMMARY:Fitness Walk for entire school
LOCATION:Scarlet Oak School
URL;VALUE=URI:https://www.arbor145.org/sos/calendar/3512882/fitness-walk-fo
 r-entire-school
DTSTART:20221019T145000Z
DTEND:20221019T155000Z
END:VEVENT
END:VCALENDAR
