BEGIN:VCALENDAR
VERSION:2.0
PRODID:SchoolNow
CALSCALE:GREGORIAN
BEGIN:VEVENT
UID:de4ff22a-37ba-11ee-a73d-0a58a9feac02
DTSTAMP:20230810T201702Z
SUMMARY:SOS Device Pick Up/Supply Drop Off Night
URL;VALUE=URI:https://www.arbor145.org/sos/calendar/4563703/sos-device-pick
 -up-supply-drop-off-night
DTSTART:20230815T210000Z
DTEND:20230815T223000Z
END:VEVENT
END:VCALENDAR
