BEGIN:VCALENDAR
VERSION:2.0
PRODID:SchoolNow
CALSCALE:GREGORIAN
BEGIN:VEVENT
UID:b374e084-5ef1-11ee-a5cb-0a58a9feac02
DTSTAMP:20230929T175748Z
SUMMARY:SOS Halloween Parade
URL;VALUE=URI:https://www.arbor145.org/sos/calendar/4811681/sos-halloween-p
 arade
DTSTART;VALUE=DATE:20231031
DTEND;VALUE=DATE:20231101
END:VEVENT
END:VCALENDAR
